2.438400000000
0.000000000000
0.000000000000
-2.438400000000
321606.431785084831
3528705.609362233430
