2.438400000000
0.000000000000
0.000000000000
-2.438400000000
570077.345092161560
3541353.539914783600
