2.438400000000
0.000000000000
0.000000000000
-2.438400000000
439795.312033219730
3485767.931699491100
