2.43840000
0.00000000
0.00000000
-2.43840000
284373.83672975
3446228.32128543
