2.43840000
0.00000000
0.00000000
-2.43840000
260493.23897626
3446741.33577827
