2.43840000
0.00000000
0.00000000
-2.43840000
297915.50388710
3529141.18457150
