2.43840000
0.00000000
0.00000000
-2.43840000
606355.23258336
3458568.62461556
