2.43840000
0.00000000
0.00000000
-2.43840000
558591.65870990
3485842.08551860
