2.43840000
0.00000000
0.00000000
-2.43840000
546533.97644209
3527328.25453113
