2.438400000000
0.000000000000
0.000000000000
-2.438400000000
674890.820570418730
3625933.995155304200
