2.43840000
0.00000000
0.00000000
-2.43840000
394272.36506164
3680145.59934395
