2.43840000
0.00000000
0.00000000
-2.43840000
254981.30036061
3710393.27885950
