2.43840000
0.00000000
0.00000000
-2.43840000
302085.56344030
3737050.44099345
