2.43840000
0.00000000
0.00000000
-2.43840000
743783.13087588
3682966.42039150
