2.43840000
0.00000000
0.00000000
-2.43840000
604036.12865355
3680276.62514390
