2.438400000000
0.000000000000
0.000000000000
-2.438400000000
429659.241559129670
3735266.316113959500
