2.438400000000
0.000000000000
0.000000000000
-2.438400000000
336176.786358412355
3694817.677145639434
