2.438400000000
0.000000000000
0.000000000000
-2.438400000000
221284.621724818540
3752939.687154923100
