2.438400000000
0.000000000000
0.000000000000
-2.438400000000
671630.522292630630
3806133.044721243400
