2.438400000000
0.000000000000
0.000000000000
-2.438400000000
397498.182744505408
3971241.905318295583
