2.438400000000
0.000000000000
0.000000000000
-2.438400000000
282775.835634925519
3903941.093101673760
