2.438400000000
0.000000000000
0.000000000000
-2.438400000000
225796.925223216589
3905484.845492987428
