2.438400000000
0.000000000000
0.000000000000
-2.438400000000
307053.318632682029
3972751.763962565456
