2.438400000000
0.000000000000
0.000000000000
-2.438400000000
714641.912163961800
3931954.950246480300
