2.43840000
0.00000000
0.00000000
-2.43840000
689518.58879819
4042339.35223296
