2.438400
0.000000
0.000000
-2.438400
587909.788156
4096078.984047
