2.43840000
0.00000000
0.00000000
-2.43840000
598674.88353823
4151645.13601566
