2.438400
0.000000
0.000000
-2.438400
532240.919280
4137174.090792
