2.438400
0.000000
0.000000
-2.438400
543217.560252
4151133.435714
