2.438400
0.000000
0.000000
-2.438400
565268.170728
4165145.437494
