2.438400
0.000000
0.000000
-2.438400
510096.435223
4164829.961855
