2.438400
0.000000
0.000000
-2.438400
531931.539517
4206504.997610
