2.438400
0.000000
0.000000
-2.438400
432441.476267
4137523.915798
