2.438400
0.000000
0.000000
-2.438400
432965.294190
4192858.612068
