2.438400
0
0
-2.438400
488036.599831
4206330.058787
