2.438400
0.000000
0.000000
-2.438400
344765.989116
4180053.137706
