2.438400
0.000000
0.000000
-2.438400
243040.959871
4113179.170243
