2.438400000000
0.000000000000
0.000000000000
-2.438400000000
752943.974005607655
4169031.117719571572
