2.438400
0
0
-2.438400
564030.835531
4303858.158063
