2.438400
0.000000
0.000000
-2.438400
531721.163328
4303655.991321
