2.438400
0.000000
0.000000
-2.438400
291204.111474
4250678.044403
