2.438400
0.000000
0.000000
-2.438400
282116.369020
4320307.672953
