2.438400
0.000000
0.000000
-2.438400
477279.018743
4345185.329432
