2.438400
0.000000
0.000000
-2.438400
477347.571972
4358966.819109
