2.438400
0.000000
0.000000
-2.438400
434434.011821
4400834.286252
