2.438400
0.000000
0.000000
-2.438400
477393.745195
4414468.735143
