2.438400
0.000000
0.000000
-2.438400
445467.675521
4428499.402645
