2.438400
0.000000
0.000000
-2.438400
337908.554525
4402344.579451
