2.438400
0.000000
0.000000
-2.438400
282881.783032
4348067.707412
