2.438400
0.000000
0.000000
-2.438400
251783.193608
4390649.656844
